BEGIN:VCALENDAR
VERSION:2.0
PRODID:-//Library Market//iCal Export//EN
BEGIN:VEVENT
SUMMARY:Line Dancing with Donna &amp; Catherine
UID:8959
DTSTAMP:20260420T120800Z
DTSTART:20260504T230000Z
DTEND:20260505T000000Z
LOCATION:271 Westchester Ave, Pound Ridge, NY 10576, United States
ROOM: Schaffner Room
DESCRIPTION:Line Dancing with Donna &amp; CatherineLine Dancing with Donna
  and Catherine: Join us as we use the wonders of YouTube to learn the most
  popular line dances. The goal here is fun, and everyone is welcome! Email
  Donna @dvolpitta@hotmail.com if you would like to be added to the email l
 ist. 
URL:https://poundridge.librarycalendar.com/event/line-dancing-donna-cather
 ine-8959
END:VEVENT
END:VCALENDAR
